BEGIN:VCALENDAR
VERSION:2.0
PRODID:-//Arizona PBS - ECPv6.15.20//NONSGML v1.0//EN
CALSCALE:GREGORIAN
METHOD:PUBLISH
X-ORIGINAL-URL:https://azpbs.org
X-WR-CALDESC:Events for Arizona PBS
REFRESH-INTERVAL;VALUE=DURATION:PT1H
X-Robots-Tag:noindex
X-PUBLISHED-TTL:PT1H
BEGIN:VTIMEZONE
TZID:America/Phoenix
BEGIN:STANDARD
TZOFFSETFROM:-0700
TZOFFSETTO:-0700
TZNAME:MST
DTSTART:20230101T000000
END:STANDARD
END:VTIMEZONE
BEGIN:VEVENT
DTSTART;TZID=America/Phoenix:20240829T180000
DTEND;TZID=America/Phoenix:20240829T200000
DTSTAMP:20260423T065814
CREATED:20240614T201834Z
LAST-MODIFIED:20240928T170927Z
UID:265256-1724954400-1724961600@azpbs.org
SUMMARY:Join us for Triple P on Thursdays on Zoom
DESCRIPTION:Take the guesswork out of parenting with our free Positive Parenting Program. Learn and practice Triple P’s FEAR-less strategies available for parents of children from birth to age 5. Increase competence in promoting healthy development and managing common behavior problems related to anxiety. The workshop is being held over three Thursdays on August 15\, 22 and 29.
URL:https://azpbs.org/calendar/join-us-for-triple-p-on-thursday-on-zoom-3/
LOCATION:AZ
CATEGORIES:Arizona PBS Kids
ATTACH;FMTTYPE=image/jpeg:https://azpbs.org/wp-content/uploads/2024/06/education-triple-p-workshop-graphic-zoom.jpg
END:VEVENT
END:VCALENDAR