BEGIN:VCALENDAR
VERSION:2.0
PRODID:-//Arizona PBS - ECPv6.15.20//NONSGML v1.0//EN
CALSCALE:GREGORIAN
METHOD:PUBLISH
X-WR-CALNAME:Arizona PBS
X-ORIGINAL-URL:https://azpbs.org
X-WR-CALDESC:Events for Arizona PBS
REFRESH-INTERVAL;VALUE=DURATION:PT1H
X-Robots-Tag:noindex
X-PUBLISHED-TTL:PT1H
BEGIN:VTIMEZONE
TZID:America/Phoenix
BEGIN:STANDARD
TZOFFSETFROM:-0700
TZOFFSETTO:-0700
TZNAME:MST
DTSTART:20240101T000000
END:STANDARD
END:VTIMEZONE
BEGIN:VEVENT
DTSTART;TZID=America/Phoenix:20250502T090000
DTEND;TZID=America/Phoenix:20250502T110000
DTSTAMP:20260422T141603
CREATED:20240928T172703Z
LAST-MODIFIED:20250215T164704Z
UID:274929-1746176400-1746183600@azpbs.org
SUMMARY:Join us for Yuma County Community of Practice
DESCRIPTION:In this series\, educators can participate in the program for Infant Toddler Care (PITC) starting with social-emotional development\, responsive caregiving\, identity\, temperament and more. \n9:00 A.M. to 11:00 A.M.\nLocation: Yuma Arizona PBS Office\n3970 W 24th St. Yuma\, AZ 85364 \nFor more information\, contact Yanira Martinez at Yanira.Yee@asu.edu or 928-655-0150. View the event flyer here. \nLook for registration within the Arizona Early Childhood Workforce Registry www.azregistry.org.
URL:https://azpbs.org/calendar/join-us-for-yuma-county-community-of-practice-infant-toddler-care/
LOCATION:Yuma Arizona PBS Office\, 3970 W 24th St Suite 211\, Yuma\, AZ\, 85364\, United States
CATEGORIES:Arizona PBS Kids
ATTACH;FMTTYPE=image/jpeg:https://azpbs.org/wp-content/uploads/2024/08/Yuma-County-Community-of-Practice-Sept-27-2024.jpg
END:VEVENT
BEGIN:VEVENT
DTSTART;TZID=America/Phoenix:20250509T090000
DTEND;TZID=America/Phoenix:20250509T103000
DTSTAMP:20260422T141603
CREATED:20240928T171830Z
LAST-MODIFIED:20250317T215145Z
UID:274927-1746781200-1746786600@azpbs.org
SUMMARY:Join us for Yuma County Community of Practice
DESCRIPTION:In this series\, educators can learn about LETRS for Early Childhood Educators\, starting with an introduction to Language Essentials for Teachers of Reading and Spelling (LETRS)\, including an early literacy foundation\, oral language connections and more. \n9:00 A.M. to 10:30 A.M.\nLocation: Virtual event \nFor information\, contact Yanira Martinez at Yanira.Yee@asu.edu or 928-655-0150. View the event flyer here. \nLook for registration within the Arizona Early Childhood Workforce Registry at www.azregistry.org.
URL:https://azpbs.org/calendar/join-us-for-yuma-county-community-of-practice-letrs/
LOCATION:AZ
CATEGORIES:Arizona PBS Kids
ATTACH;FMTTYPE=image/jpeg:https://azpbs.org/wp-content/uploads/2024/08/Yuma-County-Community-of-Practice-LETRS-for-Early-Childhood-Educators-oct-11-2024.jpg
END:VEVENT
BEGIN:VEVENT
DTSTART;TZID=America/Phoenix:20250517T090000
DTEND;TZID=America/Phoenix:20250517T110000
DTSTAMP:20260422T141603
CREATED:20240909T220310Z
LAST-MODIFIED:20250321T161443Z
UID:273018-1747472400-1747479600@azpbs.org
SUMMARY:Join us for Yuma County Community of Practice
DESCRIPTION:In this series\, educators can learn about the Pyramid Model\, starting with an introduction to the Pyramid Model & Module 1: Nurturing and Responsive Relationships. \n9:00 A.M. to 11:00 A.M.\nLocation: Yuma Arizona PBS Office\n3970 W 24th St. Yuma\, AZ 85364 \nFor information\, contact Yanira Martinez at Yanira.Yee@asu.edu or 928-655-0150. View the event flyer here. \nLook for registration within the Arizona Early Childhood Workforce Registry at www.azregistry.org.
URL:https://azpbs.org/calendar/join-us-for-yuma-county-community-of-practice/
LOCATION:Yuma Arizona PBS Office\, 3970 W 24th St Suite 211\, Yuma\, AZ\, 85364\, United States
CATEGORIES:Arizona PBS Kids
ATTACH;FMTTYPE=image/jpeg:https://azpbs.org/wp-content/uploads/2024/08/Yuma-County-Community-of-Practice-Pyramid-Model-Sept-21-2024.jpg
END:VEVENT
BEGIN:VEVENT
DTSTART;TZID=America/Phoenix:20250521T180000
DTEND;TZID=America/Phoenix:20250521T200000
DTSTAMP:20260422T141603
CREATED:20240909T221113Z
LAST-MODIFIED:20250321T161531Z
UID:273031-1747850400-1747857600@azpbs.org
SUMMARY:Join us for Yuma County Community of Practice in Spanish
DESCRIPTION:In this series\, educators can learn about the Program for Infant Toddler Care (PITC). Presented in Spanish. \n6:00 P.M. to 8:00 P.M.\n3970 W 24th St SUITE 211\, Yuma\, AZ 85364 \nFor information\, contact Yanira Martinez at Yanira.Yee@asu.edu or 928-655-0150. View the event flyer here. \nLook for registration within the Arizona Early Childhood Workforce Registry at www.azregistry.org.
URL:https://azpbs.org/calendar/join-us-for-yuma-county-community-of-practice-in-spanish/
LOCATION:Yuma Arizona PBS Office\, 3970 W 24th St Suite 211\, Yuma\, AZ\, 85364\, United States
CATEGORIES:Arizona PBS Kids
ATTACH;FMTTYPE=image/jpeg:https://azpbs.org/wp-content/uploads/2024/08/Yuma-County-Community-of-Practice-Sept-18-2024.jpg
END:VEVENT
END:VCALENDAR