BEGIN:VCALENDAR
VERSION:2.0
PRODID:-//Arizona PBS - ECPv6.15.20//NONSGML v1.0//EN
CALSCALE:GREGORIAN
METHOD:PUBLISH
X-WR-CALNAME:Arizona PBS
X-ORIGINAL-URL:https://azpbs.org
X-WR-CALDESC:Events for Arizona PBS
REFRESH-INTERVAL;VALUE=DURATION:PT1H
X-Robots-Tag:noindex
X-PUBLISHED-TTL:PT1H
BEGIN:VTIMEZONE
TZID:America/Phoenix
BEGIN:STANDARD
TZOFFSETFROM:-0700
TZOFFSETTO:-0700
TZNAME:MST
DTSTART:20240101T000000
END:STANDARD
END:VTIMEZONE
BEGIN:VEVENT
DTSTART;TZID=America/Phoenix:20250602T000000
DTEND;TZID=America/Phoenix:20250606T000000
DTSTAMP:20260422T122642
CREATED:20250602T224536Z
LAST-MODIFIED:20250613T001111Z
UID:308269-1748822400-1749168000@azpbs.org
SUMMARY:Super Why Reading Camp at Cocopah Head Start
DESCRIPTION:Help your 4- and 5-year-olds become reading superheroes at the Super Why Reading Camps hosted by Cocopah Head Start! These fun\, engaging camps help children build essential literacy skills while enjoying a classroom environment and making new friends. Registration is completely FREE\, and spots fill up quickly—so don’t miss out on this exciting opportunity. Check the list of participating organizations and locations to find the best fit for your child\, and register today to kickstart their reading adventure!
URL:https://azpbs.org/calendar/cocopah-head-start/
LOCATION:Cocopah Indian Head Start\, 17900 Cottonwood Drive\, Somerton\, Somerton\, AZ\, 85350\, United States
CATEGORIES:Arizona PBS Kids
ATTACH;FMTTYPE=image/png:https://azpbs.org/wp-content/uploads/2025/06/cocopah-head-start.png
END:VEVENT
BEGIN:VEVENT
DTSTART;TZID=America/Phoenix:20250602T080000
DTEND;TZID=America/Phoenix:20250605T170000
DTSTAMP:20260422T122642
CREATED:20250602T231335Z
LAST-MODIFIED:20250613T001130Z
UID:308289-1748851200-1749142800@azpbs.org
SUMMARY:Super Why Reading Camp at Gila Crossing Community School
DESCRIPTION:Help your 4- and 5-year-olds become reading superheroes at the Super Why Reading Camps hosted by Gila Crossing Community School! These fun\, engaging camps help children build essential literacy skills while enjoying a classroom environment and making new friends. Registration is completely FREE\, and spots fill up quickly—so don’t miss out on this exciting opportunity. Check the list of participating organizations and locations to find the best fit for your child\, and register today to kickstart their reading adventure! \nContact to register: (520) 550-4834
URL:https://azpbs.org/calendar/gila-crossing-community-school/
LOCATION:Gila Crossing Community School\, 4665 W. Pecos Road\, Laveen\, AZ\, 85339\, United States
CATEGORIES:Arizona PBS Kids
ATTACH;FMTTYPE=image/png:https://azpbs.org/wp-content/uploads/2025/06/gila-crossing-community-school.png
END:VEVENT
BEGIN:VEVENT
DTSTART;TZID=America/Phoenix:20250602T080000
DTEND;TZID=America/Phoenix:20250605T170000
DTSTAMP:20260422T122642
CREATED:20250606T201438Z
LAST-MODIFIED:20250613T001139Z
UID:308987-1748851200-1749142800@azpbs.org
SUMMARY:Super Why Reading Camp at Leupp Elementary School
DESCRIPTION:Join the Super Why Reading Camp at Leupp Elementary School and watch your 4- and 5-year-olds become reading superheroes! These exciting\, hands-on camps help children build essential literacy skills while engaging in a fun classroom environment and making new friends. Registration is completely FREE\, so don’t miss this fantastic opportunity to support your child’s learning and growth. Explore participating locations and register here to secure your spot!
URL:https://azpbs.org/calendar/leupp-elementary-school/
LOCATION:Leupp Public School\, 40 Miles East of Flagstaff\, Leupp\, AZ\, 86035\, United States
CATEGORIES:Arizona PBS Kids
ATTACH;FMTTYPE=image/png:https://azpbs.org/wp-content/uploads/2025/06/leupp.png
END:VEVENT
BEGIN:VEVENT
DTSTART;TZID=America/Phoenix:20250602T080000
DTEND;TZID=America/Phoenix:20250606T170000
DTSTAMP:20260422T122642
CREATED:20250603T201233Z
LAST-MODIFIED:20250613T001144Z
UID:308436-1748851200-1749229200@azpbs.org
SUMMARY:Super Why Reading Camp at Great Minds Learning Center
DESCRIPTION:Join the Super Why Reading Camp at Great Minds Learning Center and help your 4- and 5-year-olds transform into reading superheroes! Through fun\, interactive activities\, campers build strong literacy skills while learning and playing in a supportive classroom environment—plus\, they’ll make new friends along the way. Registration is completely FREE\, so don’t miss this chance to help your child grow and thrive. Check out the list of participating locations and register today to secure your spot!
URL:https://azpbs.org/calendar/great-minds-learning-center/
LOCATION:Great Minds Learning Center\, 2375 S. Avenue A\, Yuma\, AZ\, 85364\, United States
CATEGORIES:Arizona PBS Kids
ATTACH;FMTTYPE=image/png:https://azpbs.org/wp-content/uploads/2025/06/Great-minds-learning-center.png
END:VEVENT
BEGIN:VEVENT
DTSTART;TZID=America/Phoenix:20250609T080000
DTEND;TZID=America/Phoenix:20250612T170000
DTSTAMP:20260422T122642
CREATED:20250603T200307Z
LAST-MODIFIED:20250613T001148Z
UID:308428-1749456000-1749747600@azpbs.org
SUMMARY:Super Why Reading Camp at Gila Crossing Community School
DESCRIPTION:Help your 4- and 5-year-olds become reading superheroes at the Super Why Reading Camps hosted by Gila Crossing Community School! These fun\, engaging camps help children build essential literacy skills while enjoying a classroom environment and making new friends. Registration is completely FREE\, and spots fill up quickly—so don’t miss out on this exciting opportunity. Check the list of participating organizations and locations to find the best fit for your child\, and register today to kickstart their reading adventure! \nContact to register: (520) 550-4834
URL:https://azpbs.org/calendar/gila-crossing-community-school-2/
LOCATION:Gila Crossing Community School\, 4665 W. Pecos Road\, Laveen\, AZ\, 85339\, United States
CATEGORIES:Arizona PBS Kids
ATTACH;FMTTYPE=image/png:https://azpbs.org/wp-content/uploads/2025/06/gila-crossing-community-school.png
END:VEVENT
BEGIN:VEVENT
DTSTART;TZID=America/Phoenix:20250609T080000
DTEND;TZID=America/Phoenix:20250613T170000
DTSTAMP:20260422T122642
CREATED:20250602T232024Z
LAST-MODIFIED:20250613T001204Z
UID:308297-1749456000-1749834000@azpbs.org
SUMMARY:Super Why Reading Camp at Cocopah Head Start
DESCRIPTION:Help your 4- and 5-year-olds become reading superheroes at the Super Why Reading Camps hosted by Cocopah Head Start! These fun\, engaging camps help children build essential literacy skills while enjoying a classroom environment and making new friends. Registration is completely FREE\, and spots fill up quickly—so don’t miss out on this exciting opportunity. Check the list of participating organizations and locations to find the best fit for your child\, and register today to kickstart their reading adventure!
URL:https://azpbs.org/calendar/cocopah-head-start-2/
LOCATION:Cocopah Indian Head Start\, 17900 Cottonwood Drive\, Somerton\, Somerton\, AZ\, 85350\, United States
CATEGORIES:Arizona PBS Kids
ATTACH;FMTTYPE=image/png:https://azpbs.org/wp-content/uploads/2025/06/cocopah-head-start.png
END:VEVENT
BEGIN:VEVENT
DTSTART;TZID=America/Phoenix:20250609T080000
DTEND;TZID=America/Phoenix:20250613T170000
DTSTAMP:20260422T122642
CREATED:20250603T201332Z
LAST-MODIFIED:20250613T001210Z
UID:308440-1749456000-1749834000@azpbs.org
SUMMARY:Super Why Reading Camp at Great Minds Learning Center
DESCRIPTION:Join the Super Why Reading Camp at Great Minds Learning Center and help your 4- and 5-year-olds transform into reading superheroes! Through fun\, interactive activities\, campers build strong literacy skills while learning and playing in a supportive classroom environment—plus\, they’ll make new friends along the way. Registration is completely FREE\, so don’t miss this chance to help your child grow and thrive. Check out the list of participating locations and register today to secure your spot!
URL:https://azpbs.org/calendar/great-minds-learning-center-2/
LOCATION:Great Minds Learning Center\, 2375 S. Avenue A\, Yuma\, AZ\, 85364\, United States
CATEGORIES:Arizona PBS Kids
ATTACH;FMTTYPE=image/png:https://azpbs.org/wp-content/uploads/2025/06/Great-minds-learning-center.png
END:VEVENT
BEGIN:VEVENT
DTSTART;TZID=America/Phoenix:20250609T080000
DTEND;TZID=America/Phoenix:20250613T170000
DTSTAMP:20260422T122642
CREATED:20250606T203646Z
LAST-MODIFIED:20250613T001214Z
UID:308991-1749456000-1749834000@azpbs.org
SUMMARY:Super Why Reading Camp at Leupp Elementary School
DESCRIPTION:Join the Super Why Reading Camp at Leupp Elementary School and help your 4- and 5-year-olds become reading superheroes! This fun\, interactive camp helps children build early literacy skills while learning and playing in a supportive classroom setting—plus\, they’ll make new friends along the way. Please note that the camp dates are not consecutive: sessions will be held on June 9\, 10\, 12\, and 13. Register here to fill your spots. Don’t miss out—check the list of participating locations and register today to secure your child’s place!
URL:https://azpbs.org/calendar/leupp-elementary-school-2/
LOCATION:Leupp Public School\, 40 Miles East of Flagstaff\, Leupp\, AZ\, 86035\, United States
CATEGORIES:Arizona PBS Kids
ATTACH;FMTTYPE=image/png:https://azpbs.org/wp-content/uploads/2025/06/leupp.png
END:VEVENT
BEGIN:VEVENT
DTSTART;TZID=America/Phoenix:20250616T080000
DTEND;TZID=America/Phoenix:20250619T170000
DTSTAMP:20260422T122642
CREATED:20250603T200509Z
LAST-MODIFIED:20250613T001019Z
UID:308432-1750060800-1750352400@azpbs.org
SUMMARY:Super Why Reading Camp at Gila Crossing Community School
DESCRIPTION:Help your 4- and 5-year-olds become reading superheroes at the Super Why Reading Camps hosted by Gila Crossing Community School! These fun\, engaging camps help children build essential literacy skills while enjoying a classroom environment and making new friends. Registration is completely FREE\, and spots fill up quickly—so don’t miss out on this exciting opportunity. Check the list of participating organizations and locations to find the best fit for your child\, and register today to kickstart their reading adventure! \nContact to register: (520) 550-4834
URL:https://azpbs.org/calendar/gila-crossing-community-school-3/
LOCATION:Gila Crossing Community School\, 4665 W. Pecos Road\, Laveen\, AZ\, 85339\, United States
CATEGORIES:Arizona PBS Kids
ATTACH;FMTTYPE=image/png:https://azpbs.org/wp-content/uploads/2025/06/gila-crossing-community-school.png
END:VEVENT
BEGIN:VEVENT
DTSTART;TZID=America/Phoenix:20250616T080000
DTEND;TZID=America/Phoenix:20250619T170000
DTSTAMP:20260422T122642
CREATED:20250606T222552Z
LAST-MODIFIED:20250613T001219Z
UID:309022-1750060800-1750352400@azpbs.org
SUMMARY:Super Why Reading Camp at Round Valley Elementary School
DESCRIPTION:Join the Super Why Reading Camp at Round Valley Elementary School and help your 4- and 5-year-olds become reading superheroes! This free camp offers a fun\, supportive classroom setting where young learners can build essential literacy skills while making new friends. Don’t miss out on this exciting opportunity—register here and find the perfect camp location for your child today!
URL:https://azpbs.org/calendar/round-valley-elementary-school/
LOCATION:Round Valley Elementary School\, 165 Brown Street\, Eagar\, AZ\, 85925\, United States
CATEGORIES:Arizona PBS Kids
ATTACH;FMTTYPE=image/png:https://azpbs.org/wp-content/uploads/2025/06/round-valley-elementary-school.png
END:VEVENT
BEGIN:VEVENT
DTSTART;TZID=America/Phoenix:20250616T080000
DTEND;TZID=America/Phoenix:20250620T170000
DTSTAMP:20260422T122642
CREATED:20250602T232149Z
LAST-MODIFIED:20250613T001224Z
UID:308299-1750060800-1750438800@azpbs.org
SUMMARY:Super Why Reading Camp at Cocopah Head Start
DESCRIPTION:Help your 4- and 5-year-olds become reading superheroes at the Super Why Reading Camps hosted by Cocopah Head Start! These fun\, engaging camps help children build essential literacy skills while enjoying a classroom environment and making new friends. Registration is completely FREE\, and spots fill up quickly—so don’t miss out on this exciting opportunity. Check the list of participating organizations and locations to find the best fit for your child\, and register today to kickstart their reading adventure!
URL:https://azpbs.org/calendar/cocopah-head-start-3/
LOCATION:Cocopah Indian Head Start\, 17900 Cottonwood Drive\, Somerton\, Somerton\, AZ\, 85350\, United States
CATEGORIES:Arizona PBS Kids
ATTACH;FMTTYPE=image/png:https://azpbs.org/wp-content/uploads/2025/06/cocopah-head-start.png
END:VEVENT
BEGIN:VEVENT
DTSTART;TZID=America/Phoenix:20250616T080000
DTEND;TZID=America/Phoenix:20250620T170000
DTSTAMP:20260422T122642
CREATED:20250603T204810Z
LAST-MODIFIED:20250613T001229Z
UID:308443-1750060800-1750438800@azpbs.org
SUMMARY:Super Why Reading Camp at Great Minds Learning Center
DESCRIPTION:Join the Super Why Reading Camp at Great Minds Learning Center and help your 4- and 5-year-olds transform into reading superheroes! Through fun\, interactive activities\, campers build strong literacy skills while learning and playing in a supportive classroom environment—plus\, they’ll make new friends along the way. Registration is completely FREE\, so don’t miss this chance to help your child grow and thrive. Check out the list of participating locations and register today to secure your spot!
URL:https://azpbs.org/calendar/great-minds-learning-center-3/
LOCATION:Great Minds Learning Center\, 2375 S. Avenue A\, Yuma\, AZ\, 85364\, United States
CATEGORIES:Arizona PBS Kids
ATTACH;FMTTYPE=image/png:https://azpbs.org/wp-content/uploads/2025/06/Great-minds-learning-center.png
END:VEVENT
BEGIN:VEVENT
DTSTART;TZID=America/Phoenix:20250616T080000
DTEND;TZID=America/Phoenix:20250620T170000
DTSTAMP:20260422T122642
CREATED:20250606T211234Z
LAST-MODIFIED:20250613T001234Z
UID:309006-1750060800-1750438800@azpbs.org
SUMMARY:Super Why Reading Camp at Leupp Elementary School
DESCRIPTION:Join the Super Why Reading Camp at Leupp Elementary School and help your 4- and 5-year-olds become reading superheroes! This fun\, interactive camp helps children build early literacy skills while learning and playing in a supportive classroom setting—plus\, they’ll make new friends along the way. Please note that the camp dates are not consecutive: sessions will be held on June 16\, 17 and 20. Register here and fill up your spot quickly. Don’t miss out—check the list of participating locations and register today to secure your child’s place!
URL:https://azpbs.org/calendar/leupp-elementary-school-3/
LOCATION:Leupp Public School\, 40 Miles East of Flagstaff\, Leupp\, AZ\, 86035\, United States
CATEGORIES:Arizona PBS Kids
ATTACH;FMTTYPE=image/png:https://azpbs.org/wp-content/uploads/2025/06/leupp.png
END:VEVENT
BEGIN:VEVENT
DTSTART;TZID=America/Phoenix:20250623T080000
DTEND;TZID=America/Phoenix:20250626T170000
DTSTAMP:20260422T122642
CREATED:20250602T225724Z
LAST-MODIFIED:20250613T001241Z
UID:308280-1750665600-1750957200@azpbs.org
SUMMARY:Super Why Reading Camp at Early Learning Academy
DESCRIPTION:Help your 4- and 5-year-olds become reading superheroes at the Super Why Reading Camps hosted by Early Learning Academy! These fun\, engaging camps help children build essential literacy skills while enjoying a classroom environment and making new friends. Registration is completely FREE\, and spots fill up quickly—so don’t miss out on this exciting opportunity. Check the list of participating organizations and locations to find the best fit for your child\, and register here to kickstart their reading adventure!
URL:https://azpbs.org/calendar/early-learning-academy/
LOCATION:Early Learning Academy\, 1013 W. Arizona Avenue\, Parker\, AZ\, 85344\, United States
CATEGORIES:Arizona PBS Kids
ATTACH;FMTTYPE=image/png:https://azpbs.org/wp-content/uploads/2025/06/early-learning-academy.png
END:VEVENT
BEGIN:VEVENT
DTSTART;TZID=America/Phoenix:20250623T080000
DTEND;TZID=America/Phoenix:20250626T170000
DTSTAMP:20260422T122642
CREATED:20250603T200736Z
LAST-MODIFIED:20250613T001246Z
UID:308434-1750665600-1750957200@azpbs.org
SUMMARY:Super Why Reading Camp at Gila Crossing Community School
DESCRIPTION:Help your 4- and 5-year-olds become reading superheroes at the Super Why Reading Camps hosted by Gila Crossing Community School! These fun\, engaging camps help children build essential literacy skills while enjoying a classroom environment and making new friends. Registration is completely FREE\, and spots fill up quickly—so don’t miss out on this exciting opportunity. Check the list of participating organizations and locations to find the best fit for your child\, and register today to kickstart their reading adventure! \nContact to register: (520) 550-4834
URL:https://azpbs.org/calendar/gila-crossing-community-school-4/
LOCATION:Gila Crossing Community School\, 4665 W. Pecos Road\, Laveen\, AZ\, 85339\, United States
CATEGORIES:Arizona PBS Kids
ATTACH;FMTTYPE=image/png:https://azpbs.org/wp-content/uploads/2025/06/gila-crossing-community-school.png
END:VEVENT
BEGIN:VEVENT
DTSTART;TZID=America/Phoenix:20250623T080000
DTEND;TZID=America/Phoenix:20250626T170000
DTSTAMP:20260422T122642
CREATED:20250606T223919Z
LAST-MODIFIED:20250613T001251Z
UID:309026-1750665600-1750957200@azpbs.org
SUMMARY:Super Why Reading Camp at Round Valley Elementary School
DESCRIPTION:Join the Super Why Reading Camp at Round Valley Elementary School and help your 4- and 5-year-olds become reading superheroes! This free camp offers a fun\, supportive classroom setting where young learners can build essential literacy skills while making new friends. Don’t miss out on this exciting opportunity—register here and find the perfect camp location for your child today!
URL:https://azpbs.org/calendar/round-valley-elementary-school-2/
LOCATION:Round Valley Elementary School\, 165 Brown Street\, Eagar\, AZ\, 85925\, United States
CATEGORIES:Arizona PBS Kids
ATTACH;FMTTYPE=image/png:https://azpbs.org/wp-content/uploads/2025/06/round-valley-elementary-school.png
END:VEVENT
BEGIN:VEVENT
DTSTART;TZID=America/Phoenix:20250630T080000
DTEND;TZID=America/Phoenix:20250703T170000
DTSTAMP:20260422T122642
CREATED:20250602T232420Z
LAST-MODIFIED:20250613T001256Z
UID:308301-1751270400-1751562000@azpbs.org
SUMMARY:Super Why Reading Camp at Early Learning Academy
DESCRIPTION:Help your 4- and 5-year-olds become reading superheroes at the Super Why Reading Camps hosted by Early Learning Academy! These fun\, engaging camps help children build essential literacy skills while enjoying a classroom environment and making new friends. Registration is completely FREE\, and spots fill up quickly—so don’t miss out on this exciting opportunity. Check the list of participating organizations and locations to find the best fit for your child\, and register today to kickstart their reading adventure!
URL:https://azpbs.org/calendar/early-learning-academy-2/
LOCATION:Early Learning Academy\, 1013 W. Arizona Avenue\, Parker\, AZ\, 85344\, United States
CATEGORIES:Arizona PBS Kids
ATTACH;FMTTYPE=image/png:https://azpbs.org/wp-content/uploads/2025/06/early-learning-academy.png
END:VEVENT
BEGIN:VEVENT
DTSTART;TZID=America/Phoenix:20250630T080000
DTEND;TZID=America/Phoenix:20250703T170000
DTSTAMP:20260422T122642
CREATED:20250606T224539Z
LAST-MODIFIED:20250613T001300Z
UID:309028-1751270400-1751562000@azpbs.org
SUMMARY:Super Why Reading Camp at Round Valley Elementary School
DESCRIPTION:Join the Super Why Reading Camp at Round Valley Elementary School and help your 4- and 5-year-olds become reading superheroes! This free camp offers a fun\, supportive classroom setting where young learners can build essential literacy skills while making new friends. Don’t miss out on this exciting opportunity—register here and find the perfect camp location for your child today!
URL:https://azpbs.org/calendar/round-valley-elementary-school-3/
LOCATION:Round Valley Elementary School\, 165 Brown Street\, Eagar\, AZ\, 85925\, United States
CATEGORIES:Arizona PBS Kids
ATTACH;FMTTYPE=image/png:https://azpbs.org/wp-content/uploads/2025/06/round-valley-elementary-school.png
END:VEVENT
END:VCALENDAR