BEGIN:VCALENDAR
VERSION:2.0
PRODID:-//Arizona PBS - ECPv6.15.20//NONSGML v1.0//EN
CALSCALE:GREGORIAN
METHOD:PUBLISH
X-WR-CALNAME:Arizona PBS
X-ORIGINAL-URL:https://azpbs.org
X-WR-CALDESC:Events for Arizona PBS
REFRESH-INTERVAL;VALUE=DURATION:PT1H
X-Robots-Tag:noindex
X-PUBLISHED-TTL:PT1H
BEGIN:VTIMEZONE
TZID:America/Phoenix
BEGIN:STANDARD
TZOFFSETFROM:-0700
TZOFFSETTO:-0700
TZNAME:MST
DTSTART:20240101T000000
END:STANDARD
END:VTIMEZONE
BEGIN:VEVENT
DTSTART;TZID=America/Phoenix:20251021T180000
DTEND;TZID=America/Phoenix:20251021T200000
DTSTAMP:20260422T050417
CREATED:20250930T170636Z
LAST-MODIFIED:20250930T191551Z
UID:326217-1761069600-1761076800@azpbs.org
SUMMARY:Join us IN PERSON for Triple P on Tuesdays
DESCRIPTION:Take the guesswork out of parenting with our free IN PERSON Positive Parenting Program seminar hosted by Maricopa Unified School District.  \nIncrease competence in promoting healthy development and managing common behavior problems related to anxiety. The Triple P’s FEAR-less series is for parents of all children and is especially helpful for families with children starting school for the first time.  \nThe seminar series will be held from 6 to 8 p.m. over three Tuesdays on October 21\, 28 and November 4\, 2025\, at Maricopa Unified School District Office\, 44150 W. Maricopa-Casa Grande Hwy\, Maricopa\, AZ (Pinal County).   \nFunding generously provided by Blue Cross Blue Shield Health Choice Arizona. \nLearn more by viewing the event flyer here\, then sign up today!
URL:https://azpbs.org/calendar/join-us-for-triple-p-in-person-october-2025/
LOCATION:Maricopa Unified School District Office\, 44150 W. Maricopa-Casa Grande Hwy\, Maricopa\, AZ\, 85138\, United States
CATEGORIES:Arizona PBS Kids
ATTACH;FMTTYPE=image/jpeg:https://azpbs.org/wp-content/uploads/2024/03/education-triple-p-workshop-graphic.jpg
END:VEVENT
BEGIN:VEVENT
DTSTART;TZID=America/Phoenix:20251023T180000
DTEND;TZID=America/Phoenix:20251023T200000
DTSTAMP:20260422T050417
CREATED:20250930T164620Z
LAST-MODIFIED:20250930T192820Z
UID:326210-1761242400-1761249600@azpbs.org
SUMMARY:Join us for Triple P on Thursdays on Zoom
DESCRIPTION:Take the guesswork out of parenting with our free virtual Triple P or Positive Parenting Program seminar. Increase competence in promoting healthy development and managing common behavior problems related to anxiety.  \nThe Triple P’s FEAR-less series is for parents of all children and is especially helpful for families with children starting school for the first time. The seminar series will be held from 6 to 8 p.m. over three Thursdays on October 23\, 30 and November 6\, 2025.  \nFunding generously provided by Blue Cross Blue Shield Health Choice Arizona. \nLearn more by viewing the event flyer here\, then sign up today!
URL:https://azpbs.org/calendar/join-us-for-triple-p-on-thursdays-on-zoom-october-2025/
LOCATION:AZ
CATEGORIES:Arizona PBS Kids
ATTACH;FMTTYPE=image/jpeg:https://azpbs.org/wp-content/uploads/2024/06/education-triple-p-workshop-graphic-zoom.jpg
END:VEVENT
END:VCALENDAR