BEGIN:VCALENDAR
VERSION:2.0
PRODID:-//Arizona PBS - ECPv6.15.20//NONSGML v1.0//EN
CALSCALE:GREGORIAN
METHOD:PUBLISH
X-ORIGINAL-URL:https://azpbs.org
X-WR-CALDESC:Events for Arizona PBS
REFRESH-INTERVAL;VALUE=DURATION:PT1H
X-Robots-Tag:noindex
X-PUBLISHED-TTL:PT1H
BEGIN:VTIMEZONE
TZID:America/Phoenix
BEGIN:STANDARD
TZOFFSETFROM:-0700
TZOFFSETTO:-0700
TZNAME:MST
DTSTART:20240101T000000
END:STANDARD
END:VTIMEZONE
BEGIN:VEVENT
DTSTART;TZID=America/Phoenix:20250402T060000
DTEND;TZID=America/Phoenix:20250406T233000
DTSTAMP:20260423T095231
CREATED:20250110T225357Z
LAST-MODIFIED:20250110T225357Z
UID:282993-1743573600-1743982200@azpbs.org
SUMMARY:Arizona Bike Week 2025
DESCRIPTION:Arizona Bike Week (ABW) at WestWorld is the premier destination for motorcycle enthusiasts and music lovers alike. Nestled in the heart of Scottsdale\, Arizona\, our event transforms into a vibrant celebration of motorcycle culture and live entertainment. Whether you’re a seasoned rider or just looking for an unforgettable experience\, ABW offers a diverse array of attractions that cater to all interests. \nOur festival features two dynamic stages with continuous live music from day until night. You’ll have the chance to see some of the biggest names in the music industry perform live\, with previous acts including legends such as Foreigner\, Cheap Trick\, Bret Michaels\, Heart\, George Thorogood\, and many more. The RockYard stage\, renowned for its stellar lineup\, promises to deliver unforgettable performances that you won’t want to miss. \nIn addition to stellar music\, Arizona Bike Week offers a host of exciting activities. Our event grounds are home to a variety of vendors showcasing the latest in motorcycle gear\, accessories\, and memorabilia. Thrill-seekers can enjoy exhilarating stunt shows and live bull riding\, while contests and demos provide ample opportunities for engagement and entertainment. \nThe scenic terrain of WestWorld and the pleasant spring weather make Arizona Bike Week an ideal location for motorcycle riding. However\, even those who aren’t riding will find plenty to enjoy. With options for both single-day passes and multi-day passes\, attendees can tailor their experience to their preferences. Our pricing is designed to offer exceptional value\, allowing you to enjoy multiple concerts and festivities at an affordable rate. \nTo enhance your experience\, we provide convenient options for on-site RV and tent camping\, as well as discounted rates for nearby hotel accommodations. For more details on this year’s lineup\, ticket purchases\, and lodging options\, visit our website at www.azbikeweek.com. \nJoin us at Arizona Bike Week\, where you’ll find more than just a motorcycle rally—it’s a full-fledged music festival and cultural celebration that promises unparalleled fun and excitement. For the latest updates and exclusive content\, follow us on Instagram at @arizonabikeweek. See you there! \nArizona Bike Week\n16601 N Pima Rd\, Scottsdale\, AZ\n480-644-8191\nEmail: info@azbikeweek.com\nWebsite: https://azbikeweek.com/ \nFollow Us on Twitter: https://x.com/azbikeweek\nLike Us on Facebook: https://www.facebook.com/azbikeweek\nFollow Us on TikTok: https://www.tiktok.com/@arizonabikeweek\nFollow Us on Yelp: https://www.yelp.com/biz/arizona-bike-week-scottsdale\nSubscribe on YouTube: https://www.youtube.com/channel/UCN3JxZNLNmcawa_POWzo4jQ\nConnect With Us on LinkedIn: https://www.linkedin.com/company/arizonabikeweek\nFollow Us on Instagram: https://www.instagram.com/ArizonaBikeWeek/
URL:https://azpbs.org/calendar/arizona-bike-week-2025/
LOCATION:AZ
CATEGORIES:Live Performance
ATTACH;FMTTYPE=image/jpeg:https://azpbs.org/wp-content/uploads/2024/11/Arizona-Bike-Week-logo.jpg
END:VEVENT
END:VCALENDAR